BEGIN:VCALENDAR
VERSION:2.0
PRODID:Events Booking
BEGIN:VEVENT
UID:69e900c8ba741
SUMMARY:GMAPCC Annual Meeting
DESCRIPTION:Please join us at Olbrich Botanical Gardens in Madison!&nbsp\; 
 
 GMAPCC to hold special Annual Meeting event on Thursday\, Feb. 9\, 2023
 
 &nbsp\; Whether you are currently a member or not\, we would love to ha
 ve you come to this event to see what the GMAPCC has to offer for you and 
 your company!
 The doors to the beautiful Olbrich facility open at 8:30am
  sharp. Enter via the main lobby and proceed to the spacious Evjue Commons
  room.
 The Annual Meeting agenda...
 
 8:30am - 8:50am: Welcome and ne
 tworking
 8:50am - 9:20am: Full Breakfast Buffet by Cranberry Creek Cater
 ing
 9:20am - 9:30am: GMAPCC Award Presentations
 9:30am - 9:50am: USPS 
 Wisconsin District Manager - Jeff Drake: \"USPS - Delivering for America\"
 
 9:50am - 10:35am: Jim Toth - Executive Creative Director at 6AM Marketi
 ng: \"Pushing the Envelope: A Creative's Approach to Direct Marketing\"
 
 10:35am - 11:20am: Mike Filipski - USPS: \"The Business Customer Gateway a
 nd Small Business Tools\"
 11:20am - 11:25am: Tom Diring - GMAPCC: \"Save
  the Date - GMAPCC 11th Annual Golf Outing at The Bridges\"
 11:25am - 11
 :30am: Closing remarks followed by the Bolz Conservatory visit
 
 &nbsp\
 ;Your admission includes a visit to the Bolz Conservatory!&nbsp\;This trop
 ical oasis will provide a welcome reprieve from the cold Wisconsin Winter 
 as it is teeming with birds\, fish\, frogs\, insects\, geckos\, and all th
 e beautiful plants and flowers. Plus\, during the month of February\, the 
 conservatory will be presenting its Orchid Escape event featuring dozens o
 f beautiful flowering orchid varieties.&nbsp\; &nbsp\; &nbsp\;
 Please re
 gister today and invite a friend or business associate... everyone is welc
 ome!&nbsp\; &nbsp\;
 
 &nbsp\;
LOCATION:3330 Atwood Ave\, Madison\, WI 53704\, USA
DTSTART:20230209T143000Z
DTEND:20230209T173000Z
DTSTAMP:20230104T023452Z
ORGANIZER;CN=Greater Madison Postal Customer Council:MAILTO:events@madisonp
 cc.com
GEO:43.092739;-89.335517
X-APPLE-STRUCTURED-LOCATION;VALUE=URI;X-ADDRESS=3330 Atwood Ave\, Madison\,
  WI 53704\, USA;X-APPLE-RADIUS=72;X-TITLE=Olbrich Botanical Gardens:43.092
 739;-89.335517
END:VEVENT
END:VCALENDAR