BEGIN:VCALENDAR
VERSION:2.0
PRODID:Events Booking
BEGIN:VEVENT
UID:69e83316ae550
SUMMARY:GMAPCC \"Industry Insights\" featuring Mark Fallon of the Berkshire
  Company
DESCRIPTION:
 The GMAPCC is excited to introduce\, live and in-person...

  Mark Fallon of The Berkshire Company &nbsp\;
 Everyone is invited to thi
 s FREE&nbsp\;\"Industry Insights\" educational event!
 
 
 Thursday\, J
 uly 11\, 2024&nbsp\;
 7:30 - 9:00am
 Suttle-Straus Training Center
 105
 0 Uniek Dr.
 Waunakee\, WI 53597-8501
 Topic: \"What's Going On?\"
 ...
 or join virtually from anywhere!
 A Zoom meeting link will be sent upon r
 egistration.
 Register today!!!
LOCATION:1050 Uniek Dr\, Waunakee\, WI 53597\, USA
DTSTART:20240711T123000Z
DTEND:20240711T140000Z
DTSTAMP:20240618T235919Z
ORGANIZER;CN=Greater Madison Postal Customer Council:MAILTO:events@madisonp
 cc.com
GEO:43.183249;-89.43136
X-APPLE-STRUCTURED-LOCATION;VALUE=URI;X-ADDRESS=1050 Uniek Dr\, Waunakee\, 
 WI 53597\, USA;X-APPLE-RADIUS=72;X-TITLE=Suttle-Straus Training Center:43.
 183249;-89.43136
END:VEVENT
END:VCALENDAR